﻿BEGIN:VCALENDAR
VERSION:2.0
PRODID:-//KKS Falkenauge Edemissen e.V. von 1930 - ECPv6.15.20//NONSGML v1.0//EN
CALSCALE:GREGORIAN
METHOD:PUBLISH
X-WR-CALNAME:KKS Falkenauge Edemissen e.V. von 1930
X-ORIGINAL-URL:https://www.kks-falkenauge-edemissen.de
X-WR-CALDESC:Veranstaltungen für KKS Falkenauge Edemissen e.V. von 1930
REFRESH-INTERVAL;VALUE=DURATION:PT1H
X-Robots-Tag:noindex
X-PUBLISHED-TTL:PT1H
BEGIN:VTIMEZONE
TZID:Europe/Helsinki
BEGIN:DAYLIGHT
TZOFFSETFROM:+0200
TZOFFSETTO:+0300
TZNAME:EEST
DTSTART:20240331T010000
END:DAYLIGHT
BEGIN:STANDARD
TZOFFSETFROM:+0300
TZOFFSETTO:+0200
TZNAME:EET
DTSTART:20241027T010000
END:STANDARD
BEGIN:DAYLIGHT
TZOFFSETFROM:+0200
TZOFFSETTO:+0300
TZNAME:EEST
DTSTART:20250330T010000
END:DAYLIGHT
BEGIN:STANDARD
TZOFFSETFROM:+0300
TZOFFSETTO:+0200
TZNAME:EET
DTSTART:20251026T010000
END:STANDARD
BEGIN:DAYLIGHT
TZOFFSETFROM:+0200
TZOFFSETTO:+0300
TZNAME:EEST
DTSTART:20260329T010000
END:DAYLIGHT
BEGIN:STANDARD
TZOFFSETFROM:+0300
TZOFFSETTO:+0200
TZNAME:EET
DTSTART:20261025T010000
END:STANDARD
END:VTIMEZONE
BEGIN:VEVENT
DTSTART;TZID=Europe/Helsinki:20250417T190000
DTEND;TZID=Europe/Helsinki:20250417T220000
DTSTAMP:20260423T134604
CREATED:20241219T071035Z
LAST-MODIFIED:20241219T073050Z
UID:1220-1744916400-1744927200@www.kks-falkenauge-edemissen.de
SUMMARY:Karl Brinkop Pokal / Ostereierschießen 2025
DESCRIPTION:Karl Brinkop Pokal / Ostereierschießen
URL:https://www.kks-falkenauge-edemissen.de/event/karl-brinkop-pokal-ostereierschiessen-2025/
LOCATION:KKS Falkenauge Edemissen e.V.\, Am Eckernkamp 21\, Edemissen\, Niedersachsen\, 31234\, Deutschland
CATEGORIES:Vereinsleben
ORGANIZER;CN="KKS Falkenauge Edemissen e.V.":MAILTO:info@kks-falkenauge-edemissen.de
END:VEVENT
BEGIN:VEVENT
DTSTART;TZID=Europe/Helsinki:20250426T090000
DTEND;TZID=Europe/Helsinki:20250426T090000
DTSTAMP:20260423T134604
CREATED:20241219T071251Z
LAST-MODIFIED:20241219T073030Z
UID:1224-1745658000-1745658000@www.kks-falkenauge-edemissen.de
SUMMARY:Arbeitseinsatz 2/2025
DESCRIPTION:Arbeitseinsatz 2/2025
URL:https://www.kks-falkenauge-edemissen.de/event/arbeitseinsatz-2-2025/
LOCATION:KKS Falkenauge Edemissen e.V.\, Am Eckernkamp 21\, Edemissen\, Niedersachsen\, 31234\, Deutschland
CATEGORIES:Arbeitseinsatz
ORGANIZER;CN="KKS Falkenauge Edemissen e.V.":MAILTO:info@kks-falkenauge-edemissen.de
END:VEVENT
END:VCALENDAR